BEGIN:VCALENDAR
VERSION:2.0
PRODID:-//Le Cercle YUL - ECPv6.15.20//NONSGML v1.0//EN
CALSCALE:GREGORIAN
METHOD:PUBLISH
X-ORIGINAL-URL:https://lecercleyul.com
X-WR-CALDESC:Événements pour Le Cercle YUL
REFRESH-INTERVAL;VALUE=DURATION:PT1H
X-Robots-Tag:noindex
X-PUBLISHED-TTL:PT1H
BEGIN:VTIMEZONE
TZID:UTC
BEGIN:STANDARD
TZOFFSETFROM:+0000
TZOFFSETTO:+0000
TZNAME:UTC
DTSTART:20250101T000000
END:STANDARD
END:VTIMEZONE
BEGIN:VEVENT
DTSTART;TZID=UTC:20260312T100000
DTEND;TZID=UTC:20260313T160000
DTSTAMP:20260423T181307
CREATED:20251216T154342Z
LAST-MODIFIED:20260223T063559Z
UID:1380-1773309600-1773417600@lecercleyul.com
SUMMARY:Maîtrise ta présentation d'inscription | Listing Presentation Mastery
DESCRIPTION:Domine chaque présentation d’inscription avec confiance. Cette formation intensive de 2 jours te donne un système complet pour préqualifier efficacement\, gérer les objections comme un pro\, et closer à 6 % — sans être insistant ni réciter un script. \n📌 Ce que tu vas apprendre\nLes bases d’une présentation gagnante\n• Pourquoi 80 % du succès se joue avant même le rendez-vous\n• Comment faire la recherche sur la propriété\, le vendeur et le marché\n• Questions clés à poser à la prise de rendez-vous\n• Matériel à apporter pour se distinguer\n• Pourquoi une structure inspire confiance \nPréqualification efficace\n• Questions pour découvrir les vraies motivations et objections\n• Détecter les signaux d’alerte\n• Simulations d’appels de préqualification \nScripts : les utiliser avec naturel\n• Pourquoi les top courtiers les utilisent\n• Comment personnaliser un script\n• Pratique en duo avec feedback \nLivrer une présentation puissante\n• Mener la conversation sans insistance\n• Utiliser storytelling et preuve sociale\n• Éviter les erreurs fréquentes\n• Pratique en direct : 5 premières minutes avec coaching \nMaîtriser l’ACM (Analyse Comparative de Marché)\n• Préparer une ACM crédible\n• Présenter le prix avec assurance\n• Éviter les erreurs qui nuisent à ta crédibilité\n• Pratique de présentation en direct \nGérer les objections efficacement\n• Comprendre que les objections = intérêt\n• Réponses aux classiques : « On veut y penser »\, « Votre commission est trop haute »\n• Drills en direct : combats d’objections \nCloser et signer à 6 %\n• Les 4 techniques de closing à maîtriser\n• Closer naturellement\, sans pression\n• Utiliser le closing par retrait pour créer l’urgence\n• Simulation complète avec coaching \nÀ qui s’adresse cette formation ?\n✔️ Courtiers qui veulent signer plus d’inscriptions\n✔️ Courtiers qui peinent à gérer les objections ou à closer avec assurance\n✔️ Courtiers prêts à défendre leur commission à 6 % sans flancher \n📍 Détails\nDates : 2 jours | 12-13 mars 2026\nHeure : 10 h à 16 h\nLieu : Château St. Ambroise – 4030 Rue Saint-Ambroise\, Salle 226\, Montréal\, QC H4C 3J9\nLangue : Bilingue (français et anglais)\nCoût : 495 $ pour les deux jours\n✅ Collations\, breuvages\, dîner traiteur et stationnement inclus \n🔥 Économise 10 % si tu t’inscris avant le 1er mars (promo appliquée automatiquement)\n🔥 Passe Duo : 2 courtiers = 795 $ (20 % de rabais)\n🔥 Tarif de groupe : contacte-nous pour 3+ participants (25 % de rabais) \nInscrivez-vous dès maintenant en cliquant ici : Réservez votre place\n_\nDominate every listing appointment with confidence. This 2-day intensive training delivers a complete system to help you prequalify like a pro\, handle objections\, and close at 6% — without sounding pushy or scripted. \n📌 Course Breakdown\nThe Foundation of a Winning Listing Presentation\n• Why 80% of success happens before you walk in the door\n• How to research the property\, seller\, and market\n• Key questions to ask when booking the appointment\n• Materials that separate pros from amateurs\n• Why structure builds confidence and trust \nPrequalification Mastery\n• Questions that uncover motivation\, pricing expectations\, and objections\n• Spotting red flags early\n• Live prequalification call simulations \nUsing Scripts Naturally\n• Why top agents use scripts — and how to personalize them\n• Practicing with partners to build confidence \nDelivering a Powerful Presentation\n• Controlling the conversation without being pushy\n• Using storytelling and proof to build trust\n• Avoiding common presentation mistakes\n• Live practice: First 5 minutes with feedback \nMastering the CMA\n• Creating a CMA sellers can trust\n• Presenting price with confidence\n• Avoiding credibility-killing mistakes\n• Live CMA presentation coaching \nHandling Objections Like a Pro\n• Objections = interest — learn how to work with them\n• Scripts for: “We want to think about it\,” “Your commission is too high\,” etc.\n• Live objection battle drills \nClosing & Signing at 6%\n• The 4 closes every agent should know\n• How to assume the close naturally\n• The takeaway close for urgency\n• Full listing presentation simulation with coaching \n\nWho Should Attend?\n✔️ Realtors who want to sign more listings\n✔️ Realtors who struggle with objections or closing\n✔️ Realtors ready to increase their commission to 6% \n📍Details\nDates: 2 days | March 12-13 2026\nTime: 10:00 AM – 4:00 PM\nLocation: Château St. Ambroise – 4030 Rue Saint-Ambroise\, Suite 226\, Montréal\, QC H4C 3J9\nLanguage: Bilingual (French & English)\nInvestment: $495 for both days\n✅ Includes snacks\, beverages\, catered lunch provided & free parking\n🔥 Save 10% if you register by March 1st (promo auto-applied)\n🔥Team Pass: 2 agents = $795 (save 20%)\n🔥Group Rate: Contact us for 3+ agents (save 25%) \nRegister now by clicking here : Reserve my seat
URL:https://lecercleyul.com/events/maitrise-ta-presentation-dinscription-listing-presentation-mastery/
LOCATION:Château St. Ambroise\, 4030 Rue Saint-Ambroise\, Montréal\, QC\, H4C 3J9\, Canada
ORGANIZER;CN="Steve Traiforos":MAILTO:steve@lecercleyul.com
END:VEVENT
END:VCALENDAR