BEGIN:VCALENDAR
VERSION:2.0
PRODID:-//Le Cercle YUL - ECPv6.15.20//NONSGML v1.0//EN
CALSCALE:GREGORIAN
METHOD:PUBLISH
X-WR-CALNAME:Le Cercle YUL
X-ORIGINAL-URL:https://lecercleyul.com/en
X-WR-CALDESC:Events for Le Cercle YUL
REFRESH-INTERVAL;VALUE=DURATION:PT1H
X-Robots-Tag:noindex
X-PUBLISHED-TTL:PT1H
BEGIN:VTIMEZONE
TZID:UTC
BEGIN:STANDARD
TZOFFSETFROM:+0000
TZOFFSETTO:+0000
TZNAME:UTC
DTSTART:20250101T000000
END:STANDARD
END:VTIMEZONE
BEGIN:VEVENT
DTSTART;TZID=UTC:20260506T100000
DTEND;TZID=UTC:20260506T160000
DTSTAMP:20260423T194616
CREATED:20260409T171455Z
LAST-MODIFIED:20260409T171608Z
UID:1395-1778061600-1778083200@lecercleyul.com
SUMMARY:Maîtrise ta prospection (6 mai) | Prospecting Mastery (May 6)
DESCRIPTION:Libérez Votre Pouvoir de Prospection : Le Guide Pratique du Courtier pour Générer des Leads Vendeurs \nCe n’est pas un atelier rempli de banalités. C’est un bootcamp intensif\, sans excuses\, axé sur les résultats\, conçu pour vous doter des outils\, de l’état d’esprit et des stratégies nécessaires pour dominer votre marché. À la fin de cette journée\, vous repartirez avec des compétences concrètes à appliquer immédiatement pour commencer à générer des leads vendeurs. \nDétails : \nDate : 6 mai 2026 \nHeure : De 10h00 à 16 h \nLieu : Château St. Ambroise– 4030 Rue Saint-Ambroise\, Salle 226\, Montréal\, QC H4C 3J9 \nLangue : Bilingue (français et anglais) \nCollations : Des collations\, des boissons et dîner traiteur seront fournis \nCoût : 289 $ par billet (hors taxes) – OFFRE SPÉCIALE POUR LES INSCRIPTIONS ANTICIPÉES: Économisez 10 % jusqu’au 27 avril 2026! Code appliqué automatiquement à l’achat. \n👥 Forfaits de groupe disponibles :\nDuo (2 courtiers) → –20 % \nGroupe de 3 à 5 courtiers → –25 % \n5 courtiers et plus → Contactez-nous pour un tarif spécial : info@lecercleyul.com \nCe que vous allez apprendre :\nDévelopper un Mindset de Gagnant en Prospection \n\nComment surmonter la peur\, le rejet et la procrastination.\nClés pour bâtir une mentalité forte et rester motivé.\nTechniques concrètes pour être constant dans ses actions.\n\nPréparation et Scripts qui Convertissent \n\nOutils et données essentiels pour maximiser son succès.\nStructurer un script percutant : clarté\, confiance et impact.\nEntraînement pratique et ajustements avec coaching en direct.\n\nAppels de Prospection – Listings Expirées \n\nMeilleure approche pour contacter les propriétaires d’inscriptions expirées.\nPhrases d’ouverture qui captent l’attention et instaurent un lien de confiance.\nComment se positionner comme la solution idéale.\nSimulations d’appels avec feedback en temps réel.\n\nMaîtriser les Objections et Techniques de Closing \n\nComment répondre aux objections les plus courantes avec assurance.\nTransformer la résistance en opportunité et conclure efficacement.\nExercices pratiques et jeux de rôle pour perfectionner ses réponses.\n\nAppels de Prospection – À Vendre par Propriétaire (AVPP) \n\nStratégies pour dépasser les blocages des vendeurs autonomes.\nQuestions clés pour découvrir leurs besoins et créer un lien.\nSe positionner comme l’option la plus logique pour eux.\nJeux de rôle et simulations d’appels avec retour en direct.\n\nResponsabilisation\, Objectifs et Rester sur la Bonne Voie \n\nPourquoi la responsabilisation est essentielle pour progresser.\nFixer des objectifs de prospection réalistes et atteignables.\nCréation d’un plan d’action et mise en place d’un système d’engagement.\n\nPlan d’Action \n\nÉlaboration d’un plan d’action sur 30 jours pour dominer la prospection.\nPartage des engagements et des prochaines étapes.\nDiscours de clôture sans détour : Le vrai coût de ne pas passer à l’action.\nQ&A pour répondre aux derniers défis.\n\nDocuments Fournis : \n\nScripts éprouvés pour les expirés et les AVPP.\nFiche pratique de gestion des objections.\nModèle de plan d’action sur 30 jours.\n\nDÉCOUVREZ NOS AVIS 5 ÉTOILES ! \nNe nous croyez pas sur parole—découvrez ce que les participants précédents pensent de nos ateliers ! Nos formations ont reçu des avis élogieux de la part de professionnels de l’immobilier comme vous. Consultez nos Avis Google pour voir comment nos ateliers ont aidé des courtiers à améliorer leurs compétences en gestion des objections et à augmenter leurs inscriptions. \nInscrivez-vous dès maintenant en cliquant ici : Réservez votre place\n_ \nUnleash Your Prospecting Power: The No-Nonsense Realtor’s Guide to Generating Seller Leads \nThis is not your typical fluff-filled workshop. This is a hardcore\, no-excuses\, results-driven prospecting boot camp designed to arm you with the tools\, mindset\, and strategies to dominate your market. By the end of this day\, you’ll walk away with actionable skills you can implement immediately to start generating seller leads. \nWorkshop Details: \nDate: May 6\, 2026 \nTime: 10:00 AM PM to 4:00 PM \nLocation: Château St. Ambroise– 4030 Rue Saint-Ambroise\, Salle 226\, Montréal\, QC H4C 3J9 \nLanguage: Bilingual (English and French) \nRefreshments: Snacks\, beverages\, and catered lunch will be provided \nCost: $289 per ticket (excluding tax) – EARLY BIRD DISCOUNT: Save 10% until April 27! Code automatically applied at checkout.  \n👥 Team Discounts Available: \nDuo (2 brokers) → –20% \nGroup of 3 to 5 brokers → –25% \n5 brokers or more → Contact us for a special rate: info@lecercleyul.com \nWhat you will learn:\nMastering the Prospecting Mindset \n\nHow to overcome fear\, rejection\, and procrastination.\nThe key to building mental toughness and staying motivated.\nTechniques to develop a consistent prospecting routine.\nVisualization exercises to reinforce a winning attitude.\n\nPreparation & Scripts That Convert \n\nThe must-have tools and data to maximize prospecting success.\nHow to structure scripts for clarity\, confidence\, and impact.\nRefining your approach through live practice and coaching.\n\nCold Calling Expired Listings \n\nHow to effectively position yourself as the solution for expired listings.\nThe best opening lines to grab attention and build rapport.\nLive cold call simulations with real-time feedback.\n\nMastering Objections & Closing Techniques \n\nThe smartest ways to handle common objections like “We’re not ready yet” or “We already have an agent.”\nHow to turn resistance into opportunity and close with confidence.\nHands-on objection-handling drills with live coaching.\n\nCalling For Sale By Owners (FSBOs) \n\nHow to break through the FSBO mindset and position yourself as the best option.\nThe right questions to ask to uncover pain points and build trust.\nRole-playing FSBO calls with expert feedback.\n\nAccountability\, Goals & Staying on Track \n\nWhy accountability is the key to long-term prospecting success.\nSetting realistic daily and weekly prospecting goals.\nCreating an accountability plan and partnering up for success.\n\nAction Plan & Final Motivational Push \n\nDeveloping a personalized 30-day action plan to dominate prospecting.\nGroup sharing of commitments and next steps.\nA no-nonsense closing talk on the real cost of not taking action.\nOpen Q&A to tackle any remaining challenges.\n\nMaterials Provided: \n\nProven scripts for expired listings and FSBOs.\nObjection-handling cheat sheet.\n30-day action plan template.\n\nCHECK OUT OUR 5-STAR FEEDBACK! \nDon’t just take our word for it—see what past attendees have to say! Our previous workshops have received glowing reviews from real estate professionals just like you. Check out our Google Reviews to hear how agents have transformed their objection-handling skills and increased their listings after attending our sessions. \nRegister now by clicking here : Reserve my seat
URL:https://lecercleyul.com/en/events/maitrise-ta-prospection-6-mai-prospecting-mastery-may-6/
LOCATION:Château St. Ambroise\, 4030 Rue Saint-Ambroise\, Montréal\, QC\, H4C 3J9\, Canada
ATTACH;FMTTYPE=image/png:https://lecercleyul.com/wp-content/uploads/2026/04/Prospecting-May-6.png
ORGANIZER;CN="Steve Traiforos":MAILTO:steve@lecercleyul.com
END:VEVENT
END:VCALENDAR